BEGIN:VCALENDAR
VERSION:2.0
PRODID:icalendar-ruby
CALSCALE:GREGORIAN
METHOD:PUBLISH
BEGIN:VEVENT
DTSTAMP:20260425T034734Z
UID:12-488924@balkumbaptist.tithelysetup2.com
DTSTART:20261101T154500Z
DTEND:20261101T164500Z
CLASS:PUBLIC
CREATED:20260424T211804
DESCRIPTION:Sunday School
LAST-MODIFIED:20260424T211804
LOCATION:
SUMMARY:Sunday School
URL;VALUE=URI:https://balkumbc.org/events/sunday-school/2026-11-01
ATTACH;FILENAME=d5nC.jpg;FMTTYPE=image/jpeg:https://dq5pwpg1q8ru0.cloudfron
 t.net/2024/05/16/21/53/42/8ff1e6e3-52f2-4ad5-a892-8e0af161e662/d5nC.jpg
END:VEVENT
END:VCALENDAR
